BEGIN:VCALENDAR
VERSION:2.0
PRODID:-//Steigerwald News - ECPv6.15.20//NONSGML v1.0//EN
CALSCALE:GREGORIAN
METHOD:PUBLISH
X-ORIGINAL-URL:https://www.steigerwald-news.de
X-WR-CALDESC:Veranstaltungen für Steigerwald News
REFRESH-INTERVAL;VALUE=DURATION:PT1H
X-Robots-Tag:noindex
X-PUBLISHED-TTL:PT1H
BEGIN:VTIMEZONE
TZID:Europe/Helsinki
BEGIN:DAYLIGHT
TZOFFSETFROM:+0200
TZOFFSETTO:+0300
TZNAME:EEST
DTSTART:20230326T010000
END:DAYLIGHT
BEGIN:STANDARD
TZOFFSETFROM:+0300
TZOFFSETTO:+0200
TZNAME:EET
DTSTART:20231029T010000
END:STANDARD
BEGIN:DAYLIGHT
TZOFFSETFROM:+0200
TZOFFSETTO:+0300
TZNAME:EEST
DTSTART:20240331T010000
END:DAYLIGHT
BEGIN:STANDARD
TZOFFSETFROM:+0300
TZOFFSETTO:+0200
TZNAME:EET
DTSTART:20241027T010000
END:STANDARD
BEGIN:DAYLIGHT
TZOFFSETFROM:+0200
TZOFFSETTO:+0300
TZNAME:EEST
DTSTART:20250330T010000
END:DAYLIGHT
BEGIN:STANDARD
TZOFFSETFROM:+0300
TZOFFSETTO:+0200
TZNAME:EET
DTSTART:20251026T010000
END:STANDARD
END:VTIMEZONE
BEGIN:VEVENT
DTSTART;TZID=Europe/Helsinki:20240630T100000
DTEND;TZID=Europe/Helsinki:20240630T200000
DTSTAMP:20260423T034923
CREATED:20240531T154455Z
LAST-MODIFIED:20240531T154711Z
UID:3739-1719741600-1719777600@www.steigerwald-news.de
SUMMARY:Schlüsselfelder Winkelmarkt
DESCRIPTION:Am letzten Juniwochenende wird es heiß in Schlüsselfeld: Die Johannikerwa lädt am 28. und 29. Juni zum Feiern in den Innenhof des Schwarzen Adlers ein. \nLos geht’s am Samstag um 17:00 Uhr mit einer Beachparty. Neben Barbetrieb und Cocktails sorgt DJ Nicl für die passende Musik und Sommerstimmung. \nAm Sonntag wird es traditionell: Ab 10:00 Uhr startet der Frühschoppen mit Weißwurstfrühstück. Begleitet wird der Tag von Daydrinking und dem beliebten → Winkelmarkt auf dem Marktplatz. \nDie Kerwasburschen und -Madli Schlüsselfeld freuen sich auf zahlreiche Besucher aus der Region und darüber hinaus.
URL:https://www.steigerwald-news.de/event/schluesselfelder-winkelmarkt/
LOCATION:Winkelmarkt Schlüsselfeld\, Marktplatz\, Schlüsselfeld\, Bayern\, 96132\, Deutschland
CATEGORIES:Markt
ATTACH;FMTTYPE=image/jpeg:https://www.steigerwald-news.de/wp-content/uploads/2024/05/Winkelmarkt-Markttag.jpg
END:VEVENT
END:VCALENDAR