BEGIN:VCALENDAR
VERSION:2.0
PRODID:-//Steigerwald News - ECPv6.15.20//NONSGML v1.0//EN
CALSCALE:GREGORIAN
METHOD:PUBLISH
X-WR-CALNAME:Steigerwald News
X-ORIGINAL-URL:https://www.steigerwald-news.de
X-WR-CALDESC:Veranstaltungen für Steigerwald News
REFRESH-INTERVAL;VALUE=DURATION:PT1H
X-Robots-Tag:noindex
X-PUBLISHED-TTL:PT1H
BEGIN:VTIMEZONE
TZID:Europe/Helsinki
BEGIN:DAYLIGHT
TZOFFSETFROM:+0200
TZOFFSETTO:+0300
TZNAME:EEST
DTSTART:20230326T010000
END:DAYLIGHT
BEGIN:STANDARD
TZOFFSETFROM:+0300
TZOFFSETTO:+0200
TZNAME:EET
DTSTART:20231029T010000
END:STANDARD
BEGIN:DAYLIGHT
TZOFFSETFROM:+0200
TZOFFSETTO:+0300
TZNAME:EEST
DTSTART:20240331T010000
END:DAYLIGHT
BEGIN:STANDARD
TZOFFSETFROM:+0300
TZOFFSETTO:+0200
TZNAME:EET
DTSTART:20241027T010000
END:STANDARD
BEGIN:DAYLIGHT
TZOFFSETFROM:+0200
TZOFFSETTO:+0300
TZNAME:EEST
DTSTART:20250330T010000
END:DAYLIGHT
BEGIN:STANDARD
TZOFFSETFROM:+0300
TZOFFSETTO:+0200
TZNAME:EET
DTSTART:20251026T010000
END:STANDARD
END:VTIMEZONE
BEGIN:VEVENT
DTSTART;TZID=Europe/Helsinki:20240721T100000
DTEND;TZID=Europe/Helsinki:20240721T130000
DTSTAMP:20260420T073709
CREATED:20240702T182638Z
LAST-MODIFIED:20240927T113544Z
UID:3884-1721556000-1721566800@www.steigerwald-news.de
SUMMARY:Frühschoppen am Drei-Franken-Stein
DESCRIPTION:Dichter Nebel und ein gefährliches Überholmanöver haben am frühen Montagmorgen auf der B470 bei Neustadt an der Aisch für einen schweren Unfall gesorgt. Passiert ist das Ganze gegen 5.45 Uhr zwischen Neumühle und Pahres. \nNach ersten Erkenntnissen zog ein bislang unbekanntes Fahrzeug trotz der schlechten Sicht an einem Lastwagen vorbei. In diesem Moment kam ein Traktor mit Güllefass entgegen. Um einen Frontalzusammenstoß zu verhindern\, musste der Fahrer ausweichen und prallte dabei mit einem BMW zusammen. Das Fahrzeug\, das den Unfall offenbar ausgelöst hatte\, fuhr einfach weiter. \nDie Folgen waren erheblich: Am Traktor wurde die Achse herausgerissen. Der BMW wurde schwer beschädigt. Glück im Unglück: Nach bisherigen Angaben wurde nur eine Person leicht verletzt. \nFür die Bergung musste die B470 komplett gesperrt werden. Die Polizei sucht jetzt nach dem Fahrer\, der mit seinem waghalsigen Überholmanöver den Unfall verursacht haben soll. \n(Quelle: news5\, Foto: Symbolbild\, KI-generiert)
URL:https://www.steigerwald-news.de/event/fruehschoppen-am-drei-franken-stein/
LOCATION:Frühschoppen am Drei-Franken-Stein\, Dreifrankenstein
CATEGORIES:Frühschoppen
ATTACH;FMTTYPE=image/jpeg:https://www.steigerwald-news.de/wp-content/uploads/2024/07/Fruehschoppen-Dreifrankenstein.jpg
END:VEVENT
END:VCALENDAR