BEGIN:VCALENDAR
VERSION:2.0
PRODID:-//Steigerwald News - ECPv6.15.20//NONSGML v1.0//EN
CALSCALE:GREGORIAN
METHOD:PUBLISH
X-ORIGINAL-URL:https://www.steigerwald-news.de
X-WR-CALDESC:Veranstaltungen für Steigerwald News
REFRESH-INTERVAL;VALUE=DURATION:PT1H
X-Robots-Tag:noindex
X-PUBLISHED-TTL:PT1H
BEGIN:VTIMEZONE
TZID:Europe/Helsinki
BEGIN:DAYLIGHT
TZOFFSETFROM:+0200
TZOFFSETTO:+0300
TZNAME:EEST
DTSTART:20240331T010000
END:DAYLIGHT
BEGIN:STANDARD
TZOFFSETFROM:+0300
TZOFFSETTO:+0200
TZNAME:EET
DTSTART:20241027T010000
END:STANDARD
BEGIN:DAYLIGHT
TZOFFSETFROM:+0200
TZOFFSETTO:+0300
TZNAME:EEST
DTSTART:20250330T010000
END:DAYLIGHT
BEGIN:STANDARD
TZOFFSETFROM:+0300
TZOFFSETTO:+0200
TZNAME:EET
DTSTART:20251026T010000
END:STANDARD
BEGIN:DAYLIGHT
TZOFFSETFROM:+0200
TZOFFSETTO:+0300
TZNAME:EEST
DTSTART:20260329T010000
END:DAYLIGHT
BEGIN:STANDARD
TZOFFSETFROM:+0300
TZOFFSETTO:+0200
TZNAME:EET
DTSTART:20261025T010000
END:STANDARD
END:VTIMEZONE
BEGIN:VEVENT
DTSTART;TZID=Europe/Helsinki:20250801T180000
DTEND;TZID=Europe/Helsinki:20250801T233000
DTSTAMP:20260419T235058
CREATED:20250714T180526Z
LAST-MODIFIED:20250714T181329Z
UID:6853-1754071200-1754091000@www.steigerwald-news.de
SUMMARY:Keller Open Air Ampferbach 2025
DESCRIPTION:Alte Wälder\, sensibles Schutzgebiet\, ein verändertes Ortsbild: In Walsdorf wächst der Unmut über neue Planungen rund um die Windkraft. \nWalsdorf – In Walsdorf formiert sich Widerstand gegen weitere Windkrafträder rund um die Gemeinde. Der Ärger richtet sich dabei nicht nur gegen einzelne Standorte\, sondern gegen das Gesamtbild: Aus Sicht der Kritiker droht dem Ort eine regelrechte Umzingelung. \nBesonders brisant ist für viele Bürger\, dass neben den bereits entstehenden Anlagen im Süden nun auch im Norden weitere Windräder geplant sind. Damit würde Walsdorf von gewaltigen technischen Bauwerken eingerahmt – mit spürbaren Folgen für Landschaft\, Ortsbild und Lebensqualität. Aus einem idyllisch gelegenen Ort könnte Stück für Stück ein Schauplatz industrieller Energieplanung werden. \nScharfe Kritik gibt es auch am möglichen Standort nahe des historischen Klosterwaldes. Dort geht es nicht um irgendeine freie Fläche\, sondern um gewachsene Natur\, alten Mischwald und ein sensibles Wasserschutzgebiet. Genau das empfinden viele als falsches Signal: Erst von Klimaschutz reden und dann Naturflächen opfern\, die über Jahrhunderte entstanden sind. \nHinzu kommen Zweifel\, ob der Standort überhaupt der richtige ist. Das betroffene Gebiet gilt inzwischen nur noch als bedingt geeignet und soll besonders geprüft werden. Für die Gegner ist das ein weiterer Hinweis darauf\, dass hier mit aller Macht Projekte durchgedrückt werden sollen\, obwohl die Frage nach Nutzen\, Effizienz und Wirtschaftlichkeit längst nicht sauber beantwortet ist. \nAuch touristisch sehen die Veranstalter Risiken. Die Region lebt von ihrer Landschaft\, ihrer Ruhe und ihrem gewachsenen Charakter. Wenn sich immer mehr Windräder über den Höhenzügen drehen\, verändert das den Eindruck der Heimat dauerhaft. Für viele Einwohner ist deshalb klar: Es geht nicht nur um Strom\, sondern auch um den Erhalt dessen\, was Walsdorf ausmacht. \nDie Kritiker verweisen außerdem darauf\, dass die gesetzlichen Vorgaben ihrer Ansicht nach auch ohne dieses Gebiet erfüllt werden könnten. Ihr Appell ist deshalb eindeutig: weniger blindes Zubauen\, mehr Augenmaß und eine gerechtere Verteilung der Windkraft. \n\n\n\n	Passende Artikel zu diesem Thema:\n→ PFAS in Windkraftanlagen - die unsichtbare Gefahr hinter grüner Energie \n→ Nachteile von Windkraftanlagen
URL:https://www.steigerwald-news.de/event/keller-open-air-ampferbach-2025/
LOCATION:Keller Open-Air Ampferbach\, Brückenstraße 3\, Burgebrach-Ampferbach\, Bayern\, Germany
CATEGORIES:Open-Air
ATTACH;FMTTYPE=image/jpeg:https://www.steigerwald-news.de/wp-content/uploads/2025/07/open-air-keller-header.jpg
END:VEVENT
END:VCALENDAR