BEGIN:VCALENDAR
VERSION:2.0
PRODID:-//Steigerwald News - ECPv6.15.20//NONSGML v1.0//EN
CALSCALE:GREGORIAN
METHOD:PUBLISH
X-ORIGINAL-URL:https://www.steigerwald-news.de
X-WR-CALDESC:Veranstaltungen für Steigerwald News
REFRESH-INTERVAL;VALUE=DURATION:PT1H
X-Robots-Tag:noindex
X-PUBLISHED-TTL:PT1H
BEGIN:VTIMEZONE
TZID:Europe/Helsinki
BEGIN:DAYLIGHT
TZOFFSETFROM:+0200
TZOFFSETTO:+0300
TZNAME:EEST
DTSTART:20240331T010000
END:DAYLIGHT
BEGIN:STANDARD
TZOFFSETFROM:+0300
TZOFFSETTO:+0200
TZNAME:EET
DTSTART:20241027T010000
END:STANDARD
BEGIN:DAYLIGHT
TZOFFSETFROM:+0200
TZOFFSETTO:+0300
TZNAME:EEST
DTSTART:20250330T010000
END:DAYLIGHT
BEGIN:STANDARD
TZOFFSETFROM:+0300
TZOFFSETTO:+0200
TZNAME:EET
DTSTART:20251026T010000
END:STANDARD
BEGIN:DAYLIGHT
TZOFFSETFROM:+0200
TZOFFSETTO:+0300
TZNAME:EEST
DTSTART:20260329T010000
END:DAYLIGHT
BEGIN:STANDARD
TZOFFSETFROM:+0300
TZOFFSETTO:+0200
TZNAME:EET
DTSTART:20261025T010000
END:STANDARD
END:VTIMEZONE
BEGIN:VEVENT
DTSTART;TZID=Europe/Helsinki:20250627T170000
DTEND;TZID=Europe/Helsinki:20250627T210000
DTSTAMP:20260423T072753
CREATED:20250623T190222Z
LAST-MODIFIED:20250623T190821Z
UID:6785-1751043600-1751058000@www.steigerwald-news.de
SUMMARY:Firmencup Schlüsselfeld 2025
DESCRIPTION:Bildergalerie zum Fußballspiel in Frimmersdorf: \nDer FC Frimmersdorf hat sich in der A-Klasse 4 Bamberg vor heimischem Publikum mit 3:0 gegen Koppenwind/Burgwindheim durchgesetzt. In unserer Bildergalerie zeigen wir die besten Szenen und Eindrücke der Partie. \nZum Vergrößern\, bitte auf eines der Fotos klicken!
URL:https://www.steigerwald-news.de/event/firmencup-schluesselfeld-2025/
LOCATION:Firmencup Schlüsselfeld\, Grabengrundstraße\, Schlüsselfeld\, Bundesstaat wählen:\, 96132\, Germany
CATEGORIES:Sportveranstaltung
ATTACH;FMTTYPE=image/jpeg:https://www.steigerwald-news.de/wp-content/uploads/2025/06/firmen-fussball.jpg
END:VEVENT
END:VCALENDAR