BEGIN:VCALENDAR
VERSION:2.0
PRODID:-//Steigerwald News - ECPv6.15.20//NONSGML v1.0//EN
CALSCALE:GREGORIAN
METHOD:PUBLISH
X-WR-CALNAME:Steigerwald News
X-ORIGINAL-URL:https://www.steigerwald-news.de
X-WR-CALDESC:Veranstaltungen für Steigerwald News
REFRESH-INTERVAL;VALUE=DURATION:PT1H
X-Robots-Tag:noindex
X-PUBLISHED-TTL:PT1H
BEGIN:VTIMEZONE
TZID:Europe/Paris
BEGIN:DAYLIGHT
TZOFFSETFROM:+0100
TZOFFSETTO:+0200
TZNAME:CEST
DTSTART:20250330T010000
END:DAYLIGHT
BEGIN:STANDARD
TZOFFSETFROM:+0200
TZOFFSETTO:+0100
TZNAME:CET
DTSTART:20251026T010000
END:STANDARD
BEGIN:DAYLIGHT
TZOFFSETFROM:+0100
TZOFFSETTO:+0200
TZNAME:CEST
DTSTART:20260329T010000
END:DAYLIGHT
BEGIN:STANDARD
TZOFFSETFROM:+0200
TZOFFSETTO:+0100
TZNAME:CET
DTSTART:20261025T010000
END:STANDARD
BEGIN:DAYLIGHT
TZOFFSETFROM:+0100
TZOFFSETTO:+0200
TZNAME:CEST
DTSTART:20270328T010000
END:DAYLIGHT
BEGIN:STANDARD
TZOFFSETFROM:+0200
TZOFFSETTO:+0100
TZNAME:CET
DTSTART:20271031T010000
END:STANDARD
END:VTIMEZONE
BEGIN:VEVENT
DTSTART;TZID=Europe/Paris:20260117T200000
DTEND;TZID=Europe/Paris:20260117T230000
DTSTAMP:20260422T180032
CREATED:20251203T101042Z
LAST-MODIFIED:20251203T101142Z
UID:7791-1768680000-1768690800@www.steigerwald-news.de
SUMMARY:Till Frömmel live in Frensdorf
DESCRIPTION:Till Frömmel live in Frensdorf. \nDer Entertainer Till Frömmel aus Norddeutschland tritt am Samstag\, 17.01.2025\, im Bauernmuseum in Frensdorf auf.\n(Foto: Till Frömmel) \nAusführlicher Bericht hier: \nTill Frömmel im Bauernmuseum – Impro-Comedy trifft Zauberei
URL:https://www.steigerwald-news.de/event/till-froemmel-live-in-frensdorf/
LOCATION:Bauernmuseum Bamberger Land\, Hauptstraße 3-5\, Frensdorf\, Bayern\, 96158\, Germany
CATEGORIES:Sonstiges Fest
ATTACH;FMTTYPE=image/jpeg:https://www.steigerwald-news.de/wp-content/uploads/2025/12/live-froemmel.jpg
END:VEVENT
END:VCALENDAR